BEGIN:VCALENDAR
VERSION:2.0
PRODID:-//Special Care Australia - ECPv6.15.20//NONSGML v1.0//EN
CALSCALE:GREGORIAN
METHOD:PUBLISH
X-ORIGINAL-URL:https://specialcareaust.com.au
X-WR-CALDESC:Events for Special Care Australia
REFRESH-INTERVAL;VALUE=DURATION:PT1H
X-Robots-Tag:noindex
X-PUBLISHED-TTL:PT1H
BEGIN:VTIMEZONE
TZID:UTC
BEGIN:STANDARD
TZOFFSETFROM:+0000
TZOFFSETTO:+0000
TZNAME:UTC
DTSTART:20240101T000000
END:STANDARD
END:VTIMEZONE
BEGIN:VEVENT
DTSTART;VALUE=DATE:20250427
DTEND;VALUE=DATE:20250428
DTSTAMP:20260424T194743
CREATED:20250324T205232Z
LAST-MODIFIED:20250324T205233Z
UID:8975-1745712000-1745798399@specialcareaust.com.au
SUMMARY:National Gummi Bear Day
DESCRIPTION:
URL:https://specialcareaust.com.au/event/national-gummi-bear-day/
LOCATION:Victoria
CATEGORIES:Day Centre
ATTACH;FMTTYPE=image/png:https://specialcareaust.com.au/wp-content/uploads/2025/03/national-gummi-bear-day-april-27.png
END:VEVENT
BEGIN:VEVENT
DTSTART;TZID=UTC:20250427T100000
DTEND;TZID=UTC:20250427T160000
DTSTAMP:20260424T194743
CREATED:20250325T135549Z
LAST-MODIFIED:20250325T135549Z
UID:9036-1745748000-1745769600@specialcareaust.com.au
SUMMARY:Mornington Railways
DESCRIPTION:
URL:https://specialcareaust.com.au/event/mornington-railways/
LOCATION:Moorooduc VIC\, 460 Moorooduc Hwy\, Moorooduc\, Victoria\, Victoria\, 3933\, Australia
ATTACH;FMTTYPE=image/jpeg:https://specialcareaust.com.au/wp-content/uploads/2025/03/IMG_6357.jpg
END:VEVENT
END:VCALENDAR