BEGIN:VCALENDAR
VERSION:2.0
PRODID:-//Special Care Australia - ECPv6.15.20//NONSGML v1.0//EN
CALSCALE:GREGORIAN
METHOD:PUBLISH
X-WR-CALNAME:Special Care Australia
X-ORIGINAL-URL:https://specialcareaust.com.au
X-WR-CALDESC:Events for Special Care Australia
REFRESH-INTERVAL;VALUE=DURATION:PT1H
X-Robots-Tag:noindex
X-PUBLISHED-TTL:PT1H
BEGIN:VTIMEZONE
TZID:UTC
BEGIN:STANDARD
TZOFFSETFROM:+0000
TZOFFSETTO:+0000
TZNAME:UTC
DTSTART:20240101T000000
END:STANDARD
END:VTIMEZONE
BEGIN:VTIMEZONE
TZID:Australia/Melbourne
BEGIN:STANDARD
TZOFFSETFROM:+1100
TZOFFSETTO:+1000
TZNAME:AEST
DTSTART:20240406T160000
END:STANDARD
BEGIN:DAYLIGHT
TZOFFSETFROM:+1000
TZOFFSETTO:+1100
TZNAME:AEDT
DTSTART:20241005T160000
END:DAYLIGHT
BEGIN:STANDARD
TZOFFSETFROM:+1100
TZOFFSETTO:+1000
TZNAME:AEST
DTSTART:20250405T160000
END:STANDARD
BEGIN:DAYLIGHT
TZOFFSETFROM:+1000
TZOFFSETTO:+1100
TZNAME:AEDT
DTSTART:20251004T160000
END:DAYLIGHT
BEGIN:STANDARD
TZOFFSETFROM:+1100
TZOFFSETTO:+1000
TZNAME:AEST
DTSTART:20260404T160000
END:STANDARD
BEGIN:DAYLIGHT
TZOFFSETFROM:+1000
TZOFFSETTO:+1100
TZNAME:AEDT
DTSTART:20261003T160000
END:DAYLIGHT
END:VTIMEZONE
BEGIN:VEVENT
DTSTART;VALUE=DATE:20250509
DTEND;VALUE=DATE:20250510
DTSTAMP:20260424T194653
CREATED:20250421T231300Z
LAST-MODIFIED:20250427T235235Z
UID:9406-1746748800-1746835199@specialcareaust.com.au
SUMMARY:Celebration of Mother’s Day activities (Take your work for mum at home)
DESCRIPTION:
URL:https://specialcareaust.com.au/event/celebration-of-mothers-day-activities-take-your-work-for-mum-at-home/
LOCATION:Cranbourne VIC\, Ballarto Road &\, Botanic Drive\, Victoria\, 3977\, Australia
CATEGORIES:Day Centre
ATTACH;FMTTYPE=image/jpeg:https://specialcareaust.com.au/wp-content/uploads/2025/04/image-1.jpg
END:VEVENT
BEGIN:VEVENT
DTSTART;TZID=Australia/Melbourne:20250509T170000
DTEND;TZID=Australia/Melbourne:20250509T220000
DTSTAMP:20260424T194653
CREATED:20250423T141901Z
LAST-MODIFIED:20250505T181943Z
UID:9479-1746810000-1746828000@specialcareaust.com.au
SUMMARY:Gravity Zone
DESCRIPTION:
URL:https://specialcareaust.com.au/event/gravity-zone/
LOCATION:Seaford VIC\, 10N Nepean Hwy\, Seaford VIC 3198\, Victoria\, Victoria\, 3198\, Australia
ATTACH;FMTTYPE=image/jpeg:https://specialcareaust.com.au/wp-content/uploads/2025/04/gravity-zone.jpg
END:VEVENT
END:VCALENDAR