BEGIN:VCALENDAR
VERSION:2.0
PRODID:-//Special Care Australia - ECPv6.15.20//NONSGML v1.0//EN
CALSCALE:GREGORIAN
METHOD:PUBLISH
X-WR-CALNAME:Special Care Australia
X-ORIGINAL-URL:https://specialcareaust.com.au
X-WR-CALDESC:Events for Special Care Australia
REFRESH-INTERVAL;VALUE=DURATION:PT1H
X-Robots-Tag:noindex
X-PUBLISHED-TTL:PT1H
BEGIN:VTIMEZONE
TZID:UTC
BEGIN:STANDARD
TZOFFSETFROM:+0000
TZOFFSETTO:+0000
TZNAME:UTC
DTSTART:20240101T000000
END:STANDARD
END:VTIMEZONE
BEGIN:VEVENT
DTSTART;TZID=UTC:20250529T090000
DTEND;TZID=UTC:20250529T150000
DTSTAMP:20260424T152607
CREATED:20250422T201943Z
LAST-MODIFIED:20250422T201943Z
UID:9462-1748509200-1748530800@specialcareaust.com.au
SUMMARY:Visit to Panda Mart
DESCRIPTION:Panda Mart is a South African discount retail chain that sells low-cost household items\, including homewares\, stationery\, toys\, and kitchenware\, and has expanded to Australia\, the US\, South America\, and New Zealand. The first Australian store\, located in Cranbourne.
URL:https://specialcareaust.com.au/event/visit-to-panda-mart/
LOCATION:Cranbourne Victoria\, 1290 Thompsons Rd\, Victoria\, Victoria\, 3977\, Australia
CATEGORIES:Day Centre
ATTACH;FMTTYPE=image/jpeg:https://specialcareaust.com.au/wp-content/uploads/2025/04/images-34.jpg
END:VEVENT
END:VCALENDAR