BEGIN:VCALENDAR
VERSION:2.0
PRODID:-//Special Care Australia - ECPv6.15.20//NONSGML v1.0//EN
CALSCALE:GREGORIAN
METHOD:PUBLISH
X-ORIGINAL-URL:https://specialcareaust.com.au
X-WR-CALDESC:Events for Special Care Australia
REFRESH-INTERVAL;VALUE=DURATION:PT1H
X-Robots-Tag:noindex
X-PUBLISHED-TTL:PT1H
BEGIN:VTIMEZONE
TZID:UTC
BEGIN:STANDARD
TZOFFSETFROM:+0000
TZOFFSETTO:+0000
TZNAME:UTC
DTSTART:20240101T000000
END:STANDARD
END:VTIMEZONE
BEGIN:VEVENT
DTSTART;VALUE=DATE:20250607
DTEND;VALUE=DATE:20250608
DTSTAMP:20260424T152616
CREATED:20250515T164416Z
LAST-MODIFIED:20250515T164416Z
UID:9684-1749254400-1749340799@specialcareaust.com.au
SUMMARY:National Chocolate Ice Cream Day
DESCRIPTION:
URL:https://specialcareaust.com.au/event/national-chocolate-ice-cream-day/
LOCATION:Victoria
CATEGORIES:Day Centre
ATTACH;FMTTYPE=image/png:https://specialcareaust.com.au/wp-content/uploads/2025/05/national-chocolate-ice-cream-day-june-7.png
END:VEVENT
BEGIN:VEVENT
DTSTART;TZID=UTC:20250607T100000
DTEND;TZID=UTC:20250607T160000
DTSTAMP:20260424T152616
CREATED:20250519T230734Z
LAST-MODIFIED:20250519T230734Z
UID:9799-1749290400-1749312000@specialcareaust.com.au
SUMMARY:Chocolate Factory (Phillip Island)
DESCRIPTION:
URL:https://specialcareaust.com.au/event/chocolate-factory-phillip-island/
LOCATION:Newhaven VIC\, 930 Phillip Island Rd\, Victoria\, Victoria\, 3925\, Australia
ATTACH;FMTTYPE=image/jpeg:https://specialcareaust.com.au/wp-content/uploads/2025/05/PhillipIslandChocolateFactoryTicketinMelbourne.jpg
END:VEVENT
END:VCALENDAR