BEGIN:VCALENDAR
VERSION:2.0
PRODID:-//Special Care Australia - ECPv6.15.20//NONSGML v1.0//EN
CALSCALE:GREGORIAN
METHOD:PUBLISH
X-ORIGINAL-URL:https://specialcareaust.com.au
X-WR-CALDESC:Events for Special Care Australia
REFRESH-INTERVAL;VALUE=DURATION:PT1H
X-Robots-Tag:noindex
X-PUBLISHED-TTL:PT1H
BEGIN:VTIMEZONE
TZID:UTC
BEGIN:STANDARD
TZOFFSETFROM:+0000
TZOFFSETTO:+0000
TZNAME:UTC
DTSTART:20240101T000000
END:STANDARD
END:VTIMEZONE
BEGIN:VEVENT
DTSTART;TZID=UTC:20250616T090000
DTEND;TZID=UTC:20250616T150000
DTSTAMP:20260424T170356
CREATED:20250515T230858Z
LAST-MODIFIED:20250515T230858Z
UID:9720-1750064400-1750086000@specialcareaust.com.au
SUMMARY:Visit to Market (Chelsea market)
DESCRIPTION:The indoor market with more ! A thriving bazaar of diverse stalls that seamlessly mixes the old with the new\, the kitsch with the stylish and the hand made with the mass produced. Conveniently located off the exit of the newly opened Mordialloc Freeway\, Market 3196 is a shopping wonderland and mecca for bargain hunters\, collectors and those just out looking for something different.
URL:https://specialcareaust.com.au/event/visit-to-market-chelsea-market/
LOCATION:melbourne victoria\, Victoria\, 3004\, Australia
CATEGORIES:Day Centre
ATTACH;FMTTYPE=image/jpeg:https://specialcareaust.com.au/wp-content/uploads/2025/05/chelsea-market.jpg
END:VEVENT
END:VCALENDAR