BEGIN:VCALENDAR
VERSION:2.0
PRODID:-//Special Care Australia - ECPv6.15.20//NONSGML v1.0//EN
CALSCALE:GREGORIAN
METHOD:PUBLISH
X-WR-CALNAME:Special Care Australia
X-ORIGINAL-URL:https://specialcareaust.com.au
X-WR-CALDESC:Events for Special Care Australia
REFRESH-INTERVAL;VALUE=DURATION:PT1H
X-Robots-Tag:noindex
X-PUBLISHED-TTL:PT1H
BEGIN:VTIMEZONE
TZID:UTC
BEGIN:STANDARD
TZOFFSETFROM:+0000
TZOFFSETTO:+0000
TZNAME:UTC
DTSTART:20240101T000000
END:STANDARD
END:VTIMEZONE
BEGIN:VEVENT
DTSTART;TZID=UTC:20250703T090000
DTEND;TZID=UTC:20250703T150000
DTSTAMP:20260424T141110
CREATED:20250623T000358Z
LAST-MODIFIED:20250623T165706Z
UID:9919-1751533200-1751554800@specialcareaust.com.au
SUMMARY:Le Mans - Mini Golf OR Cooking program (Make  Brownie)
DESCRIPTION:
URL:https://specialcareaust.com.au/event/le-mans-go-karting/
LOCATION:Dandenong South VIC\, 55 Waterview Cl\, Victoria\, Victoria\, 3175\, Australia
CATEGORIES:Day Centre
ATTACH;FMTTYPE=image/png:https://specialcareaust.com.au/wp-content/uploads/2025/06/Le-Mans-Mini-Golf.png
END:VEVENT
END:VCALENDAR