BEGIN:VCALENDAR
VERSION:2.0
PRODID:-//Special Care Australia - ECPv6.15.20//NONSGML v1.0//EN
CALSCALE:GREGORIAN
METHOD:PUBLISH
X-ORIGINAL-URL:https://specialcareaust.com.au
X-WR-CALDESC:Events for Special Care Australia
REFRESH-INTERVAL;VALUE=DURATION:PT1H
X-Robots-Tag:noindex
X-PUBLISHED-TTL:PT1H
BEGIN:VTIMEZONE
TZID:Australia/Melbourne
BEGIN:STANDARD
TZOFFSETFROM:+1100
TZOFFSETTO:+1000
TZNAME:AEST
DTSTART:20250405T160000
END:STANDARD
BEGIN:DAYLIGHT
TZOFFSETFROM:+1000
TZOFFSETTO:+1100
TZNAME:AEDT
DTSTART:20251004T160000
END:DAYLIGHT
BEGIN:STANDARD
TZOFFSETFROM:+1100
TZOFFSETTO:+1000
TZNAME:AEST
DTSTART:20260404T160000
END:STANDARD
BEGIN:DAYLIGHT
TZOFFSETFROM:+1000
TZOFFSETTO:+1100
TZNAME:AEDT
DTSTART:20261003T160000
END:DAYLIGHT
BEGIN:STANDARD
TZOFFSETFROM:+1100
TZOFFSETTO:+1000
TZNAME:AEST
DTSTART:20270403T160000
END:STANDARD
BEGIN:DAYLIGHT
TZOFFSETFROM:+1000
TZOFFSETTO:+1100
TZNAME:AEDT
DTSTART:20271002T160000
END:DAYLIGHT
END:VTIMEZONE
BEGIN:VEVENT
DTSTART;TZID=Australia/Melbourne:20260302T090000
DTEND;TZID=Australia/Melbourne:20260302T150000
DTSTAMP:20260421T223048
CREATED:20260226T035902Z
LAST-MODIFIED:20260226T035902Z
UID:12141-1772442000-1772463600@specialcareaust.com.au
SUMMARY:Picnic at Karkarook Park
DESCRIPTION:Karkarook Park is a metropolitan park in Melbourne\, Victoria\, Australia\, located at the northwest corner of the southeastern suburb of Heatherton\, southeast of the intersection between Warrigal Road and Dingley Bypass\, accessible to cars only via\nFairchild Street on the south side
URL:https://specialcareaust.com.au/event/picnic-at-karkarook-park-2/
LOCATION:Heatherton VIC\, Warrigal Rd\, Victoria\, Victoria\, 3202\, Australia
CATEGORIES:Day Centre
ATTACH;FMTTYPE=image/jpeg:https://specialcareaust.com.au/wp-content/uploads/2026/02/Wetlands-Bridge-Karkarook-Park-1920x1124-1.jpg
END:VEVENT
END:VCALENDAR