BEGIN:VCALENDAR
VERSION:2.0
PRODID:-//Special Care Australia - ECPv6.15.20//NONSGML v1.0//EN
CALSCALE:GREGORIAN
METHOD:PUBLISH
X-ORIGINAL-URL:https://specialcareaust.com.au
X-WR-CALDESC:Events for Special Care Australia
REFRESH-INTERVAL;VALUE=DURATION:PT1H
X-Robots-Tag:noindex
X-PUBLISHED-TTL:PT1H
BEGIN:VTIMEZONE
TZID:Australia/Melbourne
BEGIN:STANDARD
TZOFFSETFROM:+1100
TZOFFSETTO:+1000
TZNAME:AEST
DTSTART:20250405T160000
END:STANDARD
BEGIN:DAYLIGHT
TZOFFSETFROM:+1000
TZOFFSETTO:+1100
TZNAME:AEDT
DTSTART:20251004T160000
END:DAYLIGHT
BEGIN:STANDARD
TZOFFSETFROM:+1100
TZOFFSETTO:+1000
TZNAME:AEST
DTSTART:20260404T160000
END:STANDARD
BEGIN:DAYLIGHT
TZOFFSETFROM:+1000
TZOFFSETTO:+1100
TZNAME:AEDT
DTSTART:20261003T160000
END:DAYLIGHT
BEGIN:STANDARD
TZOFFSETFROM:+1100
TZOFFSETTO:+1000
TZNAME:AEST
DTSTART:20270403T160000
END:STANDARD
BEGIN:DAYLIGHT
TZOFFSETFROM:+1000
TZOFFSETTO:+1100
TZNAME:AEDT
DTSTART:20271002T160000
END:DAYLIGHT
END:VTIMEZONE
BEGIN:VEVENT
DTSTART;VALUE=DATE:20260322
DTEND;VALUE=DATE:20260323
DTSTAMP:20260422T044823
CREATED:20260227T065158Z
LAST-MODIFIED:20260227T065158Z
UID:12200-1774137600-1774223999@specialcareaust.com.au
SUMMARY:World Water Day
DESCRIPTION:
URL:https://specialcareaust.com.au/event/world-water-day/
LOCATION:Victoria
CATEGORIES:Day Centre
ATTACH;FMTTYPE=image/jpeg:https://specialcareaust.com.au/wp-content/uploads/2026/02/world_water_day_2015.jpg
END:VEVENT
BEGIN:VEVENT
DTSTART;TZID=Australia/Melbourne:20260322T100000
DTEND;TZID=Australia/Melbourne:20260322T160000
DTSTAMP:20260422T044823
CREATED:20260204T084948Z
LAST-MODIFIED:20260204T084948Z
UID:11871-1774173600-1774195200@specialcareaust.com.au
SUMMARY:Cruden Farm
DESCRIPTION:
URL:https://specialcareaust.com.au/event/cruden-farm/
LOCATION:Langwarrin VIC\, Cranhaven Road\, 60 Cranbourne-Frankston Rd\, Victoria\, Victoria\, 3910\, Australia
ATTACH;FMTTYPE=image/jpeg:https://specialcareaust.com.au/wp-content/uploads/2026/02/farm-r.jpg
END:VEVENT
END:VCALENDAR