BEGIN:VCALENDAR
VERSION:2.0
PRODID:-//Special Care Australia - ECPv6.15.20//NONSGML v1.0//EN
CALSCALE:GREGORIAN
METHOD:PUBLISH
X-WR-CALNAME:Special Care Australia
X-ORIGINAL-URL:https://specialcareaust.com.au
X-WR-CALDESC:Events for Special Care Australia
REFRESH-INTERVAL;VALUE=DURATION:PT1H
X-Robots-Tag:noindex
X-PUBLISHED-TTL:PT1H
BEGIN:VTIMEZONE
TZID:UTC
BEGIN:STANDARD
TZOFFSETFROM:+0000
TZOFFSETTO:+0000
TZNAME:UTC
DTSTART:20240101T000000
END:STANDARD
END:VTIMEZONE
BEGIN:VEVENT
DTSTART;TZID=UTC:20250414T090000
DTEND;TZID=UTC:20250414T150000
DTSTAMP:20260424T230508
CREATED:20250324T171021Z
LAST-MODIFIED:20250324T171021Z
UID:8934-1744621200-1744642800@specialcareaust.com.au
SUMMARY:Explore Myuna Farm
DESCRIPTION:Myuna Farm is a public community farm situated in Doveton\, Victoria\, Australia\, alongside the Dandenong Creek. It is a wetland environment located within a suburb.
URL:https://specialcareaust.com.au/event/explore-myuna-farm/
LOCATION:Doveton VIC\, 182 Kidds Rd\, Victoria\, Victoria\, 3177\, Australia
CATEGORIES:Day Centre
ATTACH;FMTTYPE=image/jpeg:https://specialcareaust.com.au/wp-content/uploads/2025/03/myuna-farm.jpg
END:VEVENT
END:VCALENDAR