BEGIN:VCALENDAR
VERSION:2.0
PRODID:-//Special Care Australia - ECPv6.15.20//NONSGML v1.0//EN
CALSCALE:GREGORIAN
METHOD:PUBLISH
X-ORIGINAL-URL:https://specialcareaust.com.au
X-WR-CALDESC:Events for Special Care Australia
REFRESH-INTERVAL;VALUE=DURATION:PT1H
X-Robots-Tag:noindex
X-PUBLISHED-TTL:PT1H
BEGIN:VTIMEZONE
TZID:UTC
BEGIN:STANDARD
TZOFFSETFROM:+0000
TZOFFSETTO:+0000
TZNAME:UTC
DTSTART:20240101T000000
END:STANDARD
END:VTIMEZONE
BEGIN:VEVENT
DTSTART;TZID=UTC:20250417T090000
DTEND;TZID=UTC:20250417T150000
DTSTAMP:20260424T230042
CREATED:20250324T174341Z
LAST-MODIFIED:20250324T174341Z
UID:8943-1744880400-1744902000@specialcareaust.com.au
SUMMARY:Fitness session at Local Park on the fitness equipment
DESCRIPTION:
URL:https://specialcareaust.com.au/event/fitness-session-at-local-park-on-the-fitness-equipment/
LOCATION:Cranbourne\, 118 High St\, Cranbourne VIC\, Cranbourne VIC\, 3977\, Australia
CATEGORIES:Day Centre
ATTACH;FMTTYPE=image/jpeg:https://specialcareaust.com.au/wp-content/uploads/2025/03/cardinia-reserve-park.jpg
END:VEVENT
END:VCALENDAR