BEGIN:VCALENDAR
VERSION:2.0
PRODID:-//Special Care Australia - ECPv6.15.20//NONSGML v1.0//EN
CALSCALE:GREGORIAN
METHOD:PUBLISH
X-ORIGINAL-URL:https://specialcareaust.com.au
X-WR-CALDESC:Events for Special Care Australia
REFRESH-INTERVAL;VALUE=DURATION:PT1H
X-Robots-Tag:noindex
X-PUBLISHED-TTL:PT1H
BEGIN:VTIMEZONE
TZID:UTC
BEGIN:STANDARD
TZOFFSETFROM:+0000
TZOFFSETTO:+0000
TZNAME:UTC
DTSTART:20240101T000000
END:STANDARD
END:VTIMEZONE
BEGIN:VEVENT
DTSTART;TZID=UTC:20250702T090000
DTEND;TZID=UTC:20250702T150000
DTSTAMP:20260424T114742
CREATED:20250622T235358Z
LAST-MODIFIED:20250622T235358Z
UID:9915-1751446800-1751468400@specialcareaust.com.au
SUMMARY:Yaringa Boat Harbour and Crystal World
DESCRIPTION:Yaringa Boat Harbour located southeast of Melbourne\, is the perfect location for exploring the waters of Western Port and\nbeyond. With nearly 600 boats on site\, Yaringa Boat Harbour is one of the largest boat harbours and marine servicing precincts in Australia.
URL:https://specialcareaust.com.au/event/yaringa-boat-harbour-and-crystal-world/
LOCATION:Somerville VIC\, 1 Lumeah Rd\, Victoria\, Clyde North VIC\, 3912\, Australia
CATEGORIES:Day Centre
ATTACH;FMTTYPE=image/jpeg:https://specialcareaust.com.au/wp-content/uploads/2025/06/Yaringa-Boat-Harbour-3.jpg
END:VEVENT
END:VCALENDAR