BEGIN:VCALENDAR
VERSION:2.0
PRODID:-//Special Care Australia - ECPv6.15.20//NONSGML v1.0//EN
CALSCALE:GREGORIAN
METHOD:PUBLISH
X-ORIGINAL-URL:https://specialcareaust.com.au
X-WR-CALDESC:Events for Special Care Australia
REFRESH-INTERVAL;VALUE=DURATION:PT1H
X-Robots-Tag:noindex
X-PUBLISHED-TTL:PT1H
BEGIN:VTIMEZONE
TZID:UTC
BEGIN:STANDARD
TZOFFSETFROM:+0000
TZOFFSETTO:+0000
TZNAME:UTC
DTSTART:20240101T000000
END:STANDARD
END:VTIMEZONE
BEGIN:VEVENT
DTSTART;TZID=UTC:20250717T090000
DTEND;TZID=UTC:20250717T150000
DTSTAMP:20260424T130945
CREATED:20250625T134754Z
LAST-MODIFIED:20250625T134754Z
UID:10022-1752742800-1752764400@specialcareaust.com.au
SUMMARY:Zumba session followed by BBQ
DESCRIPTION:
URL:https://specialcareaust.com.au/event/zumba-session-followed-by-bbq-2/
LOCATION:Clyde North\, Club Delaray 66 Deoro Parade\, Victoria\, 3978\, Australia
CATEGORIES:Day Centre
ATTACH;FMTTYPE=image/jpeg:https://specialcareaust.com.au/wp-content/uploads/2025/06/lets-move-zumba.jpg
END:VEVENT
END:VCALENDAR