BEGIN:VCALENDAR
VERSION:2.0
PRODID:-//Special Care Australia - ECPv6.15.20//NONSGML v1.0//EN
CALSCALE:GREGORIAN
METHOD:PUBLISH
X-WR-CALNAME:Special Care Australia
X-ORIGINAL-URL:https://specialcareaust.com.au
X-WR-CALDESC:Events for Special Care Australia
REFRESH-INTERVAL;VALUE=DURATION:PT1H
X-Robots-Tag:noindex
X-PUBLISHED-TTL:PT1H
BEGIN:VTIMEZONE
TZID:UTC
BEGIN:STANDARD
TZOFFSETFROM:+0000
TZOFFSETTO:+0000
TZNAME:UTC
DTSTART:20240101T000000
END:STANDARD
END:VTIMEZONE
BEGIN:VEVENT
DTSTART;TZID=UTC:20250721T090000
DTEND;TZID=UTC:20250721T150000
DTSTAMP:20260424T113858
CREATED:20250625T141332Z
LAST-MODIFIED:20250625T141332Z
UID:10035-1753088400-1753110000@specialcareaust.com.au
SUMMARY:Restaurant Program @Hungry Jacks
DESCRIPTION:Hungry Jack’s Pty Ltd. is an Australian fast-food franchise of the Burger King Corporation. It is a wholly owned subsidiary of\nCompetitive Foods Australia (with licensing from Restaurant Brands International)\, a privately held company owned by Jack\nCowin. Hungry Jack’s owns and operates or sub-licenses all the Burger King/Hungry Jack’s restaurants in Australia\,
URL:https://specialcareaust.com.au/event/restaurant-program-hungry-jacks-2/
LOCATION:Carrum Downs VIC\, 100 Hall Rd\, Victoria\, Victoria\, 3201\, Australia
CATEGORIES:Day Centre
ATTACH;FMTTYPE=image/jpeg:https://specialcareaust.com.au/wp-content/uploads/2025/06/lets-eat-hungry-jacks.jpg
END:VEVENT
END:VCALENDAR