BEGIN:VCALENDAR
VERSION:2.0
PRODID:-//Special Care Australia - ECPv6.15.20//NONSGML v1.0//EN
CALSCALE:GREGORIAN
METHOD:PUBLISH
X-ORIGINAL-URL:https://specialcareaust.com.au
X-WR-CALDESC:Events for Special Care Australia
REFRESH-INTERVAL;VALUE=DURATION:PT1H
X-Robots-Tag:noindex
X-PUBLISHED-TTL:PT1H
BEGIN:VTIMEZONE
TZID:UTC
BEGIN:STANDARD
TZOFFSETFROM:+0000
TZOFFSETTO:+0000
TZNAME:UTC
DTSTART:20240101T000000
END:STANDARD
END:VTIMEZONE
BEGIN:VEVENT
DTSTART;TZID=UTC:20250725T090000
DTEND;TZID=UTC:20250725T150000
DTSTAMP:20260424T082721
CREATED:20250625T143255Z
LAST-MODIFIED:20250625T143255Z
UID:10047-1753434000-1753455600@specialcareaust.com.au
SUMMARY:Socialise with your peers and have coffee at local shopping centre
DESCRIPTION:
URL:https://specialcareaust.com.au/event/socialise-with-your-peers-and-have-coffee-at-local-shopping-centre-2/
LOCATION:Victoria
CATEGORIES:Day Centre
ATTACH;FMTTYPE=image/jpeg:https://specialcareaust.com.au/wp-content/uploads/2025/06/coffee-club-lunch.jpg
END:VEVENT
END:VCALENDAR