BEGIN:VCALENDAR
VERSION:2.0
PRODID:-//Special Care Australia - ECPv6.15.20//NONSGML v1.0//EN
CALSCALE:GREGORIAN
METHOD:PUBLISH
X-WR-CALNAME:Special Care Australia
X-ORIGINAL-URL:https://specialcareaust.com.au
X-WR-CALDESC:Events for Special Care Australia
REFRESH-INTERVAL;VALUE=DURATION:PT1H
X-Robots-Tag:noindex
X-PUBLISHED-TTL:PT1H
BEGIN:VTIMEZONE
TZID:UTC
BEGIN:STANDARD
TZOFFSETFROM:+0000
TZOFFSETTO:+0000
TZNAME:UTC
DTSTART:20240101T000000
END:STANDARD
END:VTIMEZONE
BEGIN:VEVENT
DTSTART;TZID=UTC:20250811T090000
DTEND;TZID=UTC:20250811T150000
DTSTAMP:20260424T160431
CREATED:20250720T222814Z
LAST-MODIFIED:20250720T222814Z
UID:10286-1754902800-1754924400@specialcareaust.com.au
SUMMARY:Restaurant Program @Pancake Parlour (NO Lunch Required)
DESCRIPTION:Australian family-owned pancake restaurant chain\, serving sweet and savoury pancakes and crepes
URL:https://specialcareaust.com.au/event/restaurant-program-pancake-parlour-no-lunch-required/
LOCATION:Narre Warren VIC\, Shop 1118 Westfield Fountain Gate\, 352 Princes Hwy\, Victoria\, Victoria\, 3805\, Australia
CATEGORIES:Day Centre
ATTACH;FMTTYPE=image/jpeg:https://specialcareaust.com.au/wp-content/uploads/2025/07/pancakes.jpg
END:VEVENT
END:VCALENDAR