BEGIN:VCALENDAR
VERSION:2.0
PRODID:-//Special Care Australia - ECPv6.15.20//NONSGML v1.0//EN
CALSCALE:GREGORIAN
METHOD:PUBLISH
X-ORIGINAL-URL:https://specialcareaust.com.au
X-WR-CALDESC:Events for Special Care Australia
REFRESH-INTERVAL;VALUE=DURATION:PT1H
X-Robots-Tag:noindex
X-PUBLISHED-TTL:PT1H
BEGIN:VTIMEZONE
TZID:UTC
BEGIN:STANDARD
TZOFFSETFROM:+0000
TZOFFSETTO:+0000
TZNAME:UTC
DTSTART:20240101T000000
END:STANDARD
END:VTIMEZONE
BEGIN:VEVENT
DTSTART;TZID=UTC:20250815T090000
DTEND;TZID=UTC:20250815T150000
DTSTAMP:20260424T100457
CREATED:20250720T224631Z
LAST-MODIFIED:20250720T224631Z
UID:10300-1755248400-1755270000@specialcareaust.com.au
SUMMARY:Explore to Caldermeade Farm
DESCRIPTION:
URL:https://specialcareaust.com.au/event/explore-to-caldermeade-farm/
LOCATION:Caldermeade VIC\, 4385 S Gippsland Hwy\, Victoria\, Victoria\, 3984\, Australia
CATEGORIES:Day Centre
ATTACH;FMTTYPE=image/jpeg:https://specialcareaust.com.au/wp-content/uploads/2025/07/images-9.jpg
END:VEVENT
END:VCALENDAR