BEGIN:VCALENDAR
VERSION:2.0
PRODID:-//Special Care Australia - ECPv6.15.20//NONSGML v1.0//EN
CALSCALE:GREGORIAN
METHOD:PUBLISH
X-WR-CALNAME:Special Care Australia
X-ORIGINAL-URL:https://specialcareaust.com.au
X-WR-CALDESC:Events for Special Care Australia
REFRESH-INTERVAL;VALUE=DURATION:PT1H
X-Robots-Tag:noindex
X-PUBLISHED-TTL:PT1H
BEGIN:VTIMEZONE
TZID:UTC
BEGIN:STANDARD
TZOFFSETFROM:+0000
TZOFFSETTO:+0000
TZNAME:UTC
DTSTART:20240101T000000
END:STANDARD
END:VTIMEZONE
BEGIN:VEVENT
DTSTART;TZID=UTC:20250819T090000
DTEND;TZID=UTC:20250819T150000
DTSTAMP:20260424T063604
CREATED:20250720T225858Z
LAST-MODIFIED:20250720T225858Z
UID:10311-1755594000-1755615600@specialcareaust.com.au
SUMMARY:Swimming Program
DESCRIPTION:
URL:https://specialcareaust.com.au/event/swimming-program-32/
LOCATION:Splash Swimming School\, 60 Kangan Dr\, Berwick VIC\, Victoria\, Victoria\, 3806\, Australia
CATEGORIES:Day Centre
ATTACH;FMTTYPE=image/jpeg:https://specialcareaust.com.au/wp-content/uploads/2025/06/pool-swim.jpg
END:VEVENT
END:VCALENDAR