BEGIN:VCALENDAR
VERSION:2.0
PRODID:-//Special Care Australia - ECPv6.15.20//NONSGML v1.0//EN
CALSCALE:GREGORIAN
METHOD:PUBLISH
X-WR-CALNAME:Special Care Australia
X-ORIGINAL-URL:https://specialcareaust.com.au
X-WR-CALDESC:Events for Special Care Australia
REFRESH-INTERVAL;VALUE=DURATION:PT1H
X-Robots-Tag:noindex
X-PUBLISHED-TTL:PT1H
BEGIN:VTIMEZONE
TZID:UTC
BEGIN:STANDARD
TZOFFSETFROM:+0000
TZOFFSETTO:+0000
TZNAME:UTC
DTSTART:20240101T000000
END:STANDARD
END:VTIMEZONE
BEGIN:VEVENT
DTSTART;TZID=UTC:20250821T090000
DTEND;TZID=UTC:20250821T150000
DTSTAMP:20260424T082308
CREATED:20250720T233757Z
LAST-MODIFIED:20250720T233757Z
UID:10317-1755766800-1755788400@specialcareaust.com.au
SUMMARY:Bowling at General Public
DESCRIPTION:
URL:https://specialcareaust.com.au/event/bowling-at-general-public/
LOCATION:Dingley Village VIC\, 366 Boundary Rd\, Victoria\, Victoria\, 3172\, Australia
CATEGORIES:Day Centre
ATTACH;FMTTYPE=image/jpeg:https://specialcareaust.com.au/wp-content/uploads/2025/07/bowling5-1.jpg
END:VEVENT
END:VCALENDAR