BEGIN:VCALENDAR
VERSION:2.0
PRODID:-//Special Care Australia - ECPv6.15.20//NONSGML v1.0//EN
CALSCALE:GREGORIAN
METHOD:PUBLISH
X-WR-CALNAME:Special Care Australia
X-ORIGINAL-URL:https://specialcareaust.com.au
X-WR-CALDESC:Events for Special Care Australia
REFRESH-INTERVAL;VALUE=DURATION:PT1H
X-Robots-Tag:noindex
X-PUBLISHED-TTL:PT1H
BEGIN:VTIMEZONE
TZID:UTC
BEGIN:STANDARD
TZOFFSETFROM:+0000
TZOFFSETTO:+0000
TZNAME:UTC
DTSTART:20240101T000000
END:STANDARD
END:VTIMEZONE
BEGIN:VEVENT
DTSTART;TZID=UTC:20250827T090000
DTEND;TZID=UTC:20250827T150000
DTSTAMP:20260424T063539
CREATED:20250721T000756Z
LAST-MODIFIED:20250721T000756Z
UID:10331-1756285200-1756306800@specialcareaust.com.au
SUMMARY:Moorabbin Air Museum
DESCRIPTION:An aviation museum\, founded in 1962 as the Australian Aircraft Restoration Group\, in an attempt to maintain a World War II-era\nBristol Beau fighter aircraft. It has since become a museum\, with a large aircraft collection.
URL:https://specialcareaust.com.au/event/moorabbin-air-museum/
LOCATION:Moorabbin Airport\, 12 First Street\, Moorabbin Airport\, Victoria\, Victoria\, 3194\, Australia
CATEGORIES:Day Centre
ATTACH;FMTTYPE=image/jpeg:https://specialcareaust.com.au/wp-content/uploads/2025/07/moorabbin-aie-museum.jpg
END:VEVENT
END:VCALENDAR