BEGIN:VCALENDAR
VERSION:2.0
PRODID:-//Special Care Australia - ECPv6.15.20//NONSGML v1.0//EN
CALSCALE:GREGORIAN
METHOD:PUBLISH
X-ORIGINAL-URL:https://specialcareaust.com.au
X-WR-CALDESC:Events for Special Care Australia
REFRESH-INTERVAL;VALUE=DURATION:PT1H
X-Robots-Tag:noindex
X-PUBLISHED-TTL:PT1H
BEGIN:VTIMEZONE
TZID:Australia/Melbourne
BEGIN:STANDARD
TZOFFSETFROM:+1100
TZOFFSETTO:+1000
TZNAME:AEST
DTSTART:20240406T160000
END:STANDARD
BEGIN:DAYLIGHT
TZOFFSETFROM:+1000
TZOFFSETTO:+1100
TZNAME:AEDT
DTSTART:20241005T160000
END:DAYLIGHT
BEGIN:STANDARD
TZOFFSETFROM:+1100
TZOFFSETTO:+1000
TZNAME:AEST
DTSTART:20250405T160000
END:STANDARD
BEGIN:DAYLIGHT
TZOFFSETFROM:+1000
TZOFFSETTO:+1100
TZNAME:AEDT
DTSTART:20251004T160000
END:DAYLIGHT
BEGIN:STANDARD
TZOFFSETFROM:+1100
TZOFFSETTO:+1000
TZNAME:AEST
DTSTART:20260404T160000
END:STANDARD
BEGIN:DAYLIGHT
TZOFFSETFROM:+1000
TZOFFSETTO:+1100
TZNAME:AEDT
DTSTART:20261003T160000
END:DAYLIGHT
END:VTIMEZONE
BEGIN:VEVENT
DTSTART;VALUE=DATE:20250927
DTEND;VALUE=DATE:20250928
DTSTAMP:20260424T050638
CREATED:20250827T020841Z
LAST-MODIFIED:20250827T020841Z
UID:10643-1758931200-1759017599@specialcareaust.com.au
SUMMARY:National No Excuses Day
DESCRIPTION:
URL:https://specialcareaust.com.au/event/national-no-excuses-day/
LOCATION:Victoria
CATEGORIES:Day Centre
ATTACH;FMTTYPE=image/jpeg:https://specialcareaust.com.au/wp-content/uploads/2025/08/images-20.jpg
END:VEVENT
BEGIN:VEVENT
DTSTART;VALUE=DATE:20250927
DTEND;VALUE=DATE:20250928
DTSTAMP:20260424T050638
CREATED:20250827T100020Z
LAST-MODIFIED:20250827T100653Z
UID:10668-1758931200-1759017599@specialcareaust.com.au
SUMMARY:Grand Final Day
DESCRIPTION:
URL:https://specialcareaust.com.au/event/grand-final-day-2/
LOCATION:Victoria
CATEGORIES:Day Centre
ATTACH;FMTTYPE=image/png:https://specialcareaust.com.au/wp-content/uploads/2025/08/image-4.png
END:VEVENT
END:VCALENDAR