BEGIN:VCALENDAR
VERSION:2.0
PRODID:-//Special Care Australia - ECPv6.15.20//NONSGML v1.0//EN
CALSCALE:GREGORIAN
METHOD:PUBLISH
X-ORIGINAL-URL:https://specialcareaust.com.au
X-WR-CALDESC:Events for Special Care Australia
REFRESH-INTERVAL;VALUE=DURATION:PT1H
X-Robots-Tag:noindex
X-PUBLISHED-TTL:PT1H
BEGIN:VTIMEZONE
TZID:Australia/Melbourne
BEGIN:STANDARD
TZOFFSETFROM:+1100
TZOFFSETTO:+1000
TZNAME:AEST
DTSTART:20240406T160000
END:STANDARD
BEGIN:DAYLIGHT
TZOFFSETFROM:+1000
TZOFFSETTO:+1100
TZNAME:AEDT
DTSTART:20241005T160000
END:DAYLIGHT
BEGIN:STANDARD
TZOFFSETFROM:+1100
TZOFFSETTO:+1000
TZNAME:AEST
DTSTART:20250405T160000
END:STANDARD
BEGIN:DAYLIGHT
TZOFFSETFROM:+1000
TZOFFSETTO:+1100
TZNAME:AEDT
DTSTART:20251004T160000
END:DAYLIGHT
BEGIN:STANDARD
TZOFFSETFROM:+1100
TZOFFSETTO:+1000
TZNAME:AEST
DTSTART:20260404T160000
END:STANDARD
BEGIN:DAYLIGHT
TZOFFSETFROM:+1000
TZOFFSETTO:+1100
TZNAME:AEDT
DTSTART:20261003T160000
END:DAYLIGHT
END:VTIMEZONE
BEGIN:VEVENT
DTSTART;TZID=Australia/Melbourne:20251103T090000
DTEND;TZID=Australia/Melbourne:20251103T150000
DTSTAMP:20260424T051514
CREATED:20251027T092820Z
LAST-MODIFIED:20251027T092820Z
UID:11089-1762160400-1762182000@specialcareaust.com.au
SUMMARY:Picnic @ Half Moon bay beach
DESCRIPTION:Home to the world-famous monster waves at Mavericks\, Half Moon Bay is a sleepy beach town with a strong connection to the\nocean—a perfect place for a walk along the beach or dinner at a local seafood spot.
URL:https://specialcareaust.com.au/event/picnic-half-moon-bay-beach/
LOCATION:Black Rock\, Victoria\, Victoria\, 3193\, Australia
CATEGORIES:Day Centre
ATTACH;FMTTYPE=image/jpeg:https://specialcareaust.com.au/wp-content/uploads/2025/10/half-moon-bay.jpg
END:VEVENT
END:VCALENDAR