BEGIN:VCALENDAR
VERSION:2.0
PRODID:-//Special Care Australia - ECPv6.15.20//NONSGML v1.0//EN
CALSCALE:GREGORIAN
METHOD:PUBLISH
X-ORIGINAL-URL:https://specialcareaust.com.au
X-WR-CALDESC:Events for Special Care Australia
REFRESH-INTERVAL;VALUE=DURATION:PT1H
X-Robots-Tag:noindex
X-PUBLISHED-TTL:PT1H
BEGIN:VTIMEZONE
TZID:UTC
BEGIN:STANDARD
TZOFFSETFROM:+0000
TZOFFSETTO:+0000
TZNAME:UTC
DTSTART:20240101T000000
END:STANDARD
END:VTIMEZONE
BEGIN:VTIMEZONE
TZID:Australia/Melbourne
BEGIN:STANDARD
TZOFFSETFROM:+1100
TZOFFSETTO:+1000
TZNAME:AEST
DTSTART:20240406T160000
END:STANDARD
BEGIN:DAYLIGHT
TZOFFSETFROM:+1000
TZOFFSETTO:+1100
TZNAME:AEDT
DTSTART:20241005T160000
END:DAYLIGHT
BEGIN:STANDARD
TZOFFSETFROM:+1100
TZOFFSETTO:+1000
TZNAME:AEST
DTSTART:20250405T160000
END:STANDARD
BEGIN:DAYLIGHT
TZOFFSETFROM:+1000
TZOFFSETTO:+1100
TZNAME:AEDT
DTSTART:20251004T160000
END:DAYLIGHT
BEGIN:STANDARD
TZOFFSETFROM:+1100
TZOFFSETTO:+1000
TZNAME:AEST
DTSTART:20260404T160000
END:STANDARD
BEGIN:DAYLIGHT
TZOFFSETFROM:+1000
TZOFFSETTO:+1100
TZNAME:AEDT
DTSTART:20261003T160000
END:DAYLIGHT
END:VTIMEZONE
BEGIN:VEVENT
DTSTART;TZID=UTC:20250314T090000
DTEND;TZID=UTC:20250314T150000
DTSTAMP:20260424T022636
CREATED:20250224T221540Z
LAST-MODIFIED:20250325T141315Z
UID:8631-1741942800-1741964400@specialcareaust.com.au
SUMMARY:Yoga & Meditation Program
DESCRIPTION:
URL:https://specialcareaust.com.au/event/yoga-meditation-program/
LOCATION:Clyde North\, Club Delaray 66 Deoro Parade\, Victoria\, 3978\, Australia
CATEGORIES:Day Centre
ATTACH;FMTTYPE=image/jpeg:https://specialcareaust.com.au/wp-content/uploads/2025/02/yoga.jpg
END:VEVENT
BEGIN:VEVENT
DTSTART;TZID=UTC:20250313T090000
DTEND;TZID=UTC:20250313T150000
DTSTAMP:20260424T022636
CREATED:20250224T221351Z
LAST-MODIFIED:20250325T221437Z
UID:8627-1741856400-1741878000@specialcareaust.com.au
SUMMARY:Movie Program @ Village cinema
DESCRIPTION:
URL:https://specialcareaust.com.au/event/movie-program-village-cinema/
LOCATION:Westfield Fountain Gate\, 55 Overland Dr\, Narre Warren\, Victoria\, Victoria\, 3805\, Australia
CATEGORIES:Day Centre
ATTACH;FMTTYPE=image/jpeg:https://specialcareaust.com.au/wp-content/uploads/2025/02/cinema-2.jpg
END:VEVENT
BEGIN:VEVENT
DTSTART;TZID=UTC:20250312T090000
DTEND;TZID=UTC:20250312T150000
DTSTAMP:20260424T022636
CREATED:20250224T221124Z
LAST-MODIFIED:20250226T163600Z
UID:8624-1741770000-1741791600@specialcareaust.com.au
SUMMARY:Bike Ride at Casey Fields
DESCRIPTION:Casey Stadium is one of the most prominent\, state of the art and versatile indoor sporting venues throughout Victoria\, servicing the forever expanding community of Casey and the broader Southeast Melbourne region.
URL:https://specialcareaust.com.au/event/bike-ride-at-casey-fields/
CATEGORIES:Day Centre
ATTACH;FMTTYPE=image/jpeg:https://specialcareaust.com.au/wp-content/uploads/2025/02/bikes.jpg
END:VEVENT
BEGIN:VEVENT
DTSTART;TZID=Australia/Melbourne:20250311T090000
DTEND;TZID=Australia/Melbourne:20250311T150000
DTSTAMP:20260424T022636
CREATED:20250227T164736Z
LAST-MODIFIED:20250227T164736Z
UID:8683-1741683600-1741705200@specialcareaust.com.au
SUMMARY:Swimming Program
DESCRIPTION:
URL:https://specialcareaust.com.au/event/swimming-program-11/
LOCATION:Cranbourne\, 118 High St\, Cranbourne VIC\, Cranbourne VIC\, 3977\, Australia
CATEGORIES:Day Centre
ATTACH;FMTTYPE=image/jpeg:https://specialcareaust.com.au/wp-content/uploads/2025/02/swim1.jpg
END:VEVENT
BEGIN:VEVENT
DTSTART;TZID=Australia/Melbourne:20250310T090000
DTEND;TZID=Australia/Melbourne:20250310T150000
DTSTAMP:20260424T022636
CREATED:20250227T164304Z
LAST-MODIFIED:20250227T164304Z
UID:8677-1741597200-1741618800@specialcareaust.com.au
SUMMARY:Bush walk @ Hilltop Nature Reserve
DESCRIPTION:
URL:https://specialcareaust.com.au/event/bush-walk-hilltop-nature-reserve/
LOCATION:Cranbourne North VIC\, Great Southern Homemaker Centre\, 398 S Gippsland Hwy\, Victoria\, Victoria\, 3977\, Australia
CATEGORIES:Day Centre
ATTACH;FMTTYPE=image/jpeg:https://specialcareaust.com.au/wp-content/uploads/2025/02/bush-walk-cannibal-creek-1.jpg
END:VEVENT
BEGIN:VEVENT
DTSTART;VALUE=DATE:20250309
DTEND;VALUE=DATE:20250310
DTSTAMP:20260424T022636
CREATED:20250224T220430Z
LAST-MODIFIED:20250224T220430Z
UID:8617-1741478400-1741564799@specialcareaust.com.au
SUMMARY:National Barbie Day
DESCRIPTION:
URL:https://specialcareaust.com.au/event/national-barbie-day/
CATEGORIES:Day Centre
ATTACH;FMTTYPE=image/jpeg:https://specialcareaust.com.au/wp-content/uploads/2025/02/national-barbie-day.jpg
END:VEVENT
BEGIN:VEVENT
DTSTART;VALUE=DATE:20250308
DTEND;VALUE=DATE:20250309
DTSTAMP:20260424T022636
CREATED:20250224T220248Z
LAST-MODIFIED:20250224T220248Z
UID:8614-1741392000-1741478399@specialcareaust.com.au
SUMMARY:International Women’s Day
DESCRIPTION:
URL:https://specialcareaust.com.au/event/international-womens-day/
CATEGORIES:Day Centre
ATTACH;FMTTYPE=image/jpeg:https://specialcareaust.com.au/wp-content/uploads/2025/02/images-17.jpg
END:VEVENT
BEGIN:VEVENT
DTSTART;TZID=UTC:20250307T090000
DTEND;TZID=UTC:20250307T150000
DTSTAMP:20260424T022636
CREATED:20250224T220056Z
LAST-MODIFIED:20250224T220056Z
UID:8611-1741338000-1741359600@specialcareaust.com.au
SUMMARY:Cooking Program (Make your own sandwiches)
DESCRIPTION:
URL:https://specialcareaust.com.au/event/cooking-program-make-your-own-sandwiches/
LOCATION:Cranbourne VIC\, Ballarto Road &\, Botanic Drive\, Victoria\, 3977\, Australia
CATEGORIES:Day Centre
ATTACH;FMTTYPE=image/jpeg:https://specialcareaust.com.au/wp-content/uploads/2025/02/cooking-sandwich.jpg
END:VEVENT
BEGIN:VEVENT
DTSTART;TZID=UTC:20250306T090000
DTEND;TZID=UTC:20250306T150000
DTSTAMP:20260424T022636
CREATED:20250224T215807Z
LAST-MODIFIED:20250227T162035Z
UID:8609-1741251600-1741273200@specialcareaust.com.au
SUMMARY:YES Program (Bus washing program)
DESCRIPTION:
URL:https://specialcareaust.com.au/event/yes-program-bus-washing-program/
LOCATION:Cranbourne\, 118 High St\, Cranbourne VIC\, Cranbourne VIC\, 3977\, Australia
CATEGORIES:Day Centre
ATTACH;FMTTYPE=image/jpeg:https://specialcareaust.com.au/wp-content/uploads/2025/02/carwash1.jpg
END:VEVENT
BEGIN:VEVENT
DTSTART;TZID=UTC:20250305T090000
DTEND;TZID=UTC:20250305T150000
DTSTAMP:20260424T022636
CREATED:20250224T214148Z
LAST-MODIFIED:20250224T214148Z
UID:8605-1741165200-1741186800@specialcareaust.com.au
SUMMARY:Fitness session at Delray fitness club
DESCRIPTION:At the heart of Delaray’s community\, the architecturally designed Club Delaray is a place to connect\, meet new people and relax with friends\, family and neighbours. \nWhether a work out in the gymnasium\, lazing by one of the pools\, playing a round of tennis\, or simply enjoying a coffee with friends\, at Club Delaray the choice is yours. \nIt’s like living at a resort and it’s all within easy walking distance of your new Delaray home.
URL:https://specialcareaust.com.au/event/fitness-session-at-delray-fitness-club/
LOCATION:Clyde North VIC\, Ramlegh Recreation reserve\, Victoria\, Victoria\, 3978\, Australia
CATEGORIES:Day Centre
ATTACH;FMTTYPE=image/jpeg:https://specialcareaust.com.au/wp-content/uploads/2025/02/Villawood-Properties2018_CraigMoodiePhoto_0292.jpg
END:VEVENT
BEGIN:VEVENT
DTSTART;TZID=UTC:20250304T090000
DTEND;TZID=UTC:20250304T150000
DTSTAMP:20260424T022636
CREATED:20250224T212821Z
LAST-MODIFIED:20250224T212821Z
UID:8597-1741078800-1741100400@specialcareaust.com.au
SUMMARY:Swimming Program
DESCRIPTION:
URL:https://specialcareaust.com.au/event/swimming-program-8/
LOCATION:Cranbourne VIC\, Ballarto Road &\, Botanic Drive\, Victoria\, 3977\, Australia
CATEGORIES:Day Centre
ATTACH;FMTTYPE=image/jpeg:https://specialcareaust.com.au/wp-content/uploads/2025/02/swim-gropup-1.jpg
END:VEVENT
BEGIN:VEVENT
DTSTART;TZID=UTC:20250303T080000
DTEND;TZID=UTC:20250303T170000
DTSTAMP:20260424T022636
CREATED:20250223T233528Z
LAST-MODIFIED:20250223T233528Z
UID:8592-1740988800-1741021200@specialcareaust.com.au
SUMMARY:Restaurant Program @ Pancake Parlour
DESCRIPTION:Australian family-owned pancake restaurant chain\, serving sweet and savoury pancakes and crepes. 
URL:https://specialcareaust.com.au/event/restaurant-program-pancake-parlour/
LOCATION:VIC\, 1 Old Monbulk Rd\, Belgrave\, Victoria\, Victoria\, 3160\, Australia
CATEGORIES:Day Centre
ATTACH;FMTTYPE=image/jpeg:https://specialcareaust.com.au/wp-content/uploads/2025/02/pancakes.jpg
END:VEVENT
BEGIN:VEVENT
DTSTART;VALUE=DATE:20250302
DTEND;VALUE=DATE:20250303
DTSTAMP:20260424T022636
CREATED:20250223T232255Z
LAST-MODIFIED:20250223T232255Z
UID:8589-1740873600-1740959999@specialcareaust.com.au
SUMMARY: Dr. Seuss Day
DESCRIPTION:
URL:https://specialcareaust.com.au/event/dr-seuss-day/
CATEGORIES:Day Centre
ATTACH;FMTTYPE=image/png:https://specialcareaust.com.au/wp-content/uploads/2025/02/images-1.png
END:VEVENT
BEGIN:VEVENT
DTSTART;VALUE=DATE:20250301
DTEND;VALUE=DATE:20250302
DTSTAMP:20260424T022636
CREATED:20250223T232122Z
LAST-MODIFIED:20250226T163506Z
UID:8586-1740787200-1740873599@specialcareaust.com.au
SUMMARY:Share a Smile Day
DESCRIPTION:
URL:https://specialcareaust.com.au/event/share-a-smile-day/
CATEGORIES:Day Centre
ATTACH;FMTTYPE=image/jpeg:https://specialcareaust.com.au/wp-content/uploads/2025/02/1646139649239.jpg
END:VEVENT
BEGIN:VEVENT
DTSTART;TZID=Australia/Melbourne:20250228T090000
DTEND;TZID=Australia/Melbourne:20250228T150000
DTSTAMP:20260424T022636
CREATED:20250129T221220Z
LAST-MODIFIED:20250129T221220Z
UID:8457-1740733200-1740754800@specialcareaust.com.au
SUMMARY:Community access to Dockland’s River Front
DESCRIPTION:Docklands Riverfront is conveniently located in 429-437 Docklands Dr\, Docklands VIC 3008 Waterfront City is a retail\, entertainment\, residential\, commercial and leisure precinct. It offers an alternative to high-rise living in Docklands\, with architecturally designed apartments and townhouses with private garden settings. Go for a stroll and enjoy the surroundings. 
URL:https://specialcareaust.com.au/event/community-access-to-docklands-river-front/
LOCATION:Docklands VIC\, 429-437 Docklands Dr\, Docklands VIC\, Victoria\, Victoria\, 3008\, Australia
CATEGORIES:Day Centre
ATTACH;FMTTYPE=image/jpeg:https://specialcareaust.com.au/wp-content/uploads/2025/01/dockland-riverfront.jpg
END:VEVENT
BEGIN:VEVENT
DTSTART;TZID=Australia/Melbourne:20250227T090000
DTEND;TZID=Australia/Melbourne:20250227T150000
DTSTAMP:20260424T022636
CREATED:20250129T220725Z
LAST-MODIFIED:20250129T220725Z
UID:8454-1740646800-1740668400@specialcareaust.com.au
SUMMARY:Movie Village Cinema
DESCRIPTION:
URL:https://specialcareaust.com.au/event/movie-village-cinema/
LOCATION:Cranbourne\, 118 High St\, Cranbourne VIC\, Cranbourne VIC\, 3977\, Australia
CATEGORIES:Day Centre
ATTACH;FMTTYPE=image/jpeg:https://specialcareaust.com.au/wp-content/uploads/2025/01/cinema.jpg
END:VEVENT
BEGIN:VEVENT
DTSTART;TZID=Australia/Melbourne:20250226T090000
DTEND;TZID=Australia/Melbourne:20250226T150000
DTSTAMP:20260424T022636
CREATED:20250129T220408Z
LAST-MODIFIED:20250129T220408Z
UID:8450-1740560400-1740582000@specialcareaust.com.au
SUMMARY:Visit to Emerald Lake
DESCRIPTION:Emerald Lake Rd\, Emerald VIC 3782 Nobelius Heritage Park is a heritage site of state cultural significance\, covering an area of four and a half hectares. The park has beautiful gardens\, exotic ornamental trees and is perfect for quiet reflection and a picnic with family and friends. 
URL:https://specialcareaust.com.au/event/visit-to-emerald-lake/
LOCATION:Emerald VIC\, Cardinia Reservoir Access Rd\, Victoria\, Victoria\, 3782\, Australia
CATEGORIES:Day Centre
ATTACH;FMTTYPE=image/jpeg:https://specialcareaust.com.au/wp-content/uploads/2025/01/images-16.jpg
END:VEVENT
BEGIN:VEVENT
DTSTART;TZID=UTC:20250225T090000
DTEND;TZID=UTC:20250225T150000
DTSTAMP:20260424T022636
CREATED:20250129T215052Z
LAST-MODIFIED:20250129T222722Z
UID:8447-1740474000-1740495600@specialcareaust.com.au
SUMMARY:Swimming Program
DESCRIPTION:
URL:https://specialcareaust.com.au/event/swimming-program-7/
CATEGORIES:Day Centre
ATTACH;FMTTYPE=image/jpeg:https://specialcareaust.com.au/wp-content/uploads/2025/01/swim-2-1.jpg
END:VEVENT
BEGIN:VEVENT
DTSTART;VALUE=DATE:20250225
DTEND;VALUE=DATE:20250226
DTSTAMP:20260424T022636
CREATED:20250224T220626Z
LAST-MODIFIED:20250324T151822Z
UID:8620-1740441600-1740527999@specialcareaust.com.au
SUMMARY:Swimming Program
DESCRIPTION:
URL:https://specialcareaust.com.au/event/swimming-program-9/
CATEGORIES:Day Centre
ATTACH;FMTTYPE=image/jpeg:https://specialcareaust.com.au/wp-content/uploads/2025/02/swim-pool-2.jpg
END:VEVENT
BEGIN:VEVENT
DTSTART;VALUE=DATE:20250224
DTEND;VALUE=DATE:20250225
DTSTAMP:20260424T022636
CREATED:20250129T214850Z
LAST-MODIFIED:20250129T214850Z
UID:8444-1740355200-1740441599@specialcareaust.com.au
SUMMARY:Pyjama Day (Come in your own pajama’s)
DESCRIPTION:
URL:https://specialcareaust.com.au/event/pyjama-day-come-in-your-own-pajamas/
CATEGORIES:Day Centre
ATTACH;FMTTYPE=image/png:https://specialcareaust.com.au/wp-content/uploads/2025/01/images.png
END:VEVENT
BEGIN:VEVENT
DTSTART;VALUE=DATE:20250223
DTEND;VALUE=DATE:20250224
DTSTAMP:20260424T022636
CREATED:20250129T214409Z
LAST-MODIFIED:20250129T214520Z
UID:8441-1740268800-1740355199@specialcareaust.com.au
SUMMARY:National Play Tennis Day
DESCRIPTION:
URL:https://specialcareaust.com.au/event/national-play-tennis-day/
CATEGORIES:Day Centre
ATTACH;FMTTYPE=image/jpeg:https://specialcareaust.com.au/wp-content/uploads/2025/01/sport-tennis-01.jpg
END:VEVENT
BEGIN:VEVENT
DTSTART;TZID=UTC:20250221T090000
DTEND;TZID=UTC:20250221T150000
DTSTAMP:20260424T022636
CREATED:20250129T214018Z
LAST-MODIFIED:20250129T214018Z
UID:8435-1740128400-1740150000@specialcareaust.com.au
SUMMARY:Watch movie on a Projector
DESCRIPTION:
URL:https://specialcareaust.com.au/event/watch-movie-on-a-projector/
LOCATION:Cranbourne\, 118 High St\, Cranbourne VIC\, Cranbourne VIC\, 3977\, Australia
CATEGORIES:Day Centre
ATTACH;FMTTYPE=image/jpeg:https://specialcareaust.com.au/wp-content/uploads/2025/01/movie-1.jpg
END:VEVENT
BEGIN:VEVENT
DTSTART;TZID=Australia/Melbourne:20250220T090000
DTEND;TZID=Australia/Melbourne:20250220T150000
DTSTAMP:20260424T022636
CREATED:20250129T212927Z
LAST-MODIFIED:20250129T212927Z
UID:8432-1740042000-1740063600@specialcareaust.com.au
SUMMARY:Play sports in Local Park
DESCRIPTION:
URL:https://specialcareaust.com.au/event/play-sports-in-local-park/
LOCATION:Cranbourne VIC\, Ballarto Road &\, Botanic Drive\, Victoria\, 3977\, Australia
CATEGORIES:Day Centre
ATTACH;FMTTYPE=image/jpeg:https://specialcareaust.com.au/wp-content/uploads/2025/01/en-sport-1.jpg
END:VEVENT
BEGIN:VEVENT
DTSTART;TZID=Australia/Melbourne:20250219T090000
DTEND;TZID=Australia/Melbourne:20250219T150000
DTSTAMP:20260424T022636
CREATED:20250129T212649Z
LAST-MODIFIED:20250129T212649Z
UID:8429-1739955600-1739977200@specialcareaust.com.au
SUMMARY:Bike Riding at Casey Fields
DESCRIPTION:The track is the first of its kind in Victoria and provides a fast-paced\, action-packed training\, competition and recreation cycling facility.
URL:https://specialcareaust.com.au/event/bike-riding-at-casey-fields-2/
LOCATION:Cranbourne East VIC\, 65 Berwick-Cranbourne Rd\, Victoria\, Victoria\, 3977\, Australia
CATEGORIES:Day Centre
ATTACH;FMTTYPE=image/jpeg:https://specialcareaust.com.au/wp-content/uploads/2025/01/lets-go-riding-1.jpg
END:VEVENT
BEGIN:VEVENT
DTSTART;TZID=UTC:20250218T090000
DTEND;TZID=UTC:20250218T150000
DTSTAMP:20260424T022636
CREATED:20250129T212042Z
LAST-MODIFIED:20250129T212042Z
UID:8425-1739869200-1739890800@specialcareaust.com.au
SUMMARY:Swimming Program
DESCRIPTION:
URL:https://specialcareaust.com.au/event/swimming-program-6/
LOCATION:Cranbourne\, 118 High St\, Cranbourne VIC\, Cranbourne VIC\, 3977\, Australia
CATEGORIES:Day Centre
ATTACH;FMTTYPE=image/jpeg:https://specialcareaust.com.au/wp-content/uploads/2025/01/swim-2-1.jpg
END:VEVENT
BEGIN:VEVENT
DTSTART;TZID=UTC:20250217T090000
DTEND;TZID=UTC:20250217T150000
DTSTAMP:20260424T022636
CREATED:20250129T211255Z
LAST-MODIFIED:20250129T211255Z
UID:8422-1739782800-1739804400@specialcareaust.com.au
SUMMARY:Restaurant Program (Have Lunch at Hungry Jacks)
DESCRIPTION:Hungry Jack’s Pty Ltd. is an Australian fast food franchise of the Burger King Corporation. It is a wholly owned subsidiary of Competitive Foods Australia (with licensing from Restaurant Brands International)\, a privately held company owned by Jack Cowin. Hungry Jack’s owns and operates or sub-licenses all of the Burger King/Hungry Jack’s restaurants in Australia. 
URL:https://specialcareaust.com.au/event/restaurant-program-have-lunch-at-hungry-jacks/
LOCATION:Cranbourne\, 118 High St\, Cranbourne VIC\, Cranbourne VIC\, 3977\, Australia
CATEGORIES:Day Centre
ATTACH;FMTTYPE=image/jpeg:https://specialcareaust.com.au/wp-content/uploads/2025/01/lets-eat-hungry-jacks.jpg
END:VEVENT
BEGIN:VEVENT
DTSTART;VALUE=DATE:20250216
DTEND;VALUE=DATE:20250217
DTSTAMP:20260424T022636
CREATED:20250129T210742Z
LAST-MODIFIED:20250129T210742Z
UID:8419-1739664000-1739750399@specialcareaust.com.au
SUMMARY:World Whale Day
DESCRIPTION:
URL:https://specialcareaust.com.au/event/world-whale-day/
CATEGORIES:Day Centre
ATTACH;FMTTYPE=image/jpeg:https://specialcareaust.com.au/wp-content/uploads/2025/01/1200-675-20779503-163-20779503-1708233062952.jpg
END:VEVENT
BEGIN:VEVENT
DTSTART;TZID=Australia/Melbourne:20250214T090000
DTEND;TZID=Australia/Melbourne:20250214T150000
DTSTAMP:20260424T022636
CREATED:20250129T210427Z
LAST-MODIFIED:20250129T210427Z
UID:8413-1739523600-1739545200@specialcareaust.com.au
SUMMARY:Art & Craft for Valentine’s Day
DESCRIPTION:
URL:https://specialcareaust.com.au/event/art-craft-for-valentines-day/
LOCATION:Cranbourne\, 118 High St\, Cranbourne VIC\, Cranbourne VIC\, 3977\, Australia
CATEGORIES:Day Centre
ATTACH;FMTTYPE=image/jpeg:https://specialcareaust.com.au/wp-content/uploads/2025/01/art-and-craft1-1.jpg
END:VEVENT
BEGIN:VEVENT
DTSTART;TZID=Australia/Melbourne:20250213T090000
DTEND;TZID=Australia/Melbourne:20250213T150000
DTSTAMP:20260424T022636
CREATED:20250129T085907Z
LAST-MODIFIED:20250129T085907Z
UID:8402-1739437200-1739458800@specialcareaust.com.au
SUMMARY:Picnic at 1000 steps (Have Lunch there)
DESCRIPTION:The 1000 Steps is probably Melbourne’s most popular bushwalk. Officially the Kokoda Track Memorial Walk. Walking\, bird watching\, wildlife and picnic area. 
URL:https://specialcareaust.com.au/event/picnic-at-1000-steps-have-lunch-there/
LOCATION:Tremont VIC\, Tree Fern Gully Track\, Victoria\, 3785\, Australia
CATEGORIES:Day Centre
ATTACH;FMTTYPE=image/jpeg:https://specialcareaust.com.au/wp-content/uploads/2025/01/1000-steps-2.jpg
END:VEVENT
BEGIN:VEVENT
DTSTART;TZID=UTC:20250212T090000
DTEND;TZID=UTC:20250212T150000
DTSTAMP:20260424T022636
CREATED:20250129T085452Z
LAST-MODIFIED:20250129T085452Z
UID:8398-1739350800-1739372400@specialcareaust.com.au
SUMMARY:Beach walk at Carrum Beach
DESCRIPTION:Carrum Beach is a 2 km stretch of beach in Melbourne\, Australia. It’s located on Port Phillip Bay\, between Patterson River and Seaford. The beach is popular with families and has a large playground\, a boardwalk\, and a Surf Life Saving Club 
URL:https://specialcareaust.com.au/event/beach-walk-at-carrum-beach/
LOCATION:Carrum VIC\, Stephens St\, Carrum VIC\, Victoria\, 3197\, Australia
CATEGORIES:Day Centre
ATTACH;FMTTYPE=image/jpeg:https://specialcareaust.com.au/wp-content/uploads/2025/01/beach-1.jpg
END:VEVENT
END:VCALENDAR