BEGIN:VCALENDAR
VERSION:2.0
PRODID:-//Special Care Australia - ECPv6.15.20//NONSGML v1.0//EN
CALSCALE:GREGORIAN
METHOD:PUBLISH
X-WR-CALNAME:Special Care Australia
X-ORIGINAL-URL:https://specialcareaust.com.au
X-WR-CALDESC:Events for Special Care Australia
REFRESH-INTERVAL;VALUE=DURATION:PT1H
X-Robots-Tag:noindex
X-PUBLISHED-TTL:PT1H
BEGIN:VTIMEZONE
TZID:Australia/Melbourne
BEGIN:STANDARD
TZOFFSETFROM:+1100
TZOFFSETTO:+1000
TZNAME:AEST
DTSTART:20240406T160000
END:STANDARD
BEGIN:DAYLIGHT
TZOFFSETFROM:+1000
TZOFFSETTO:+1100
TZNAME:AEDT
DTSTART:20241005T160000
END:DAYLIGHT
BEGIN:STANDARD
TZOFFSETFROM:+1100
TZOFFSETTO:+1000
TZNAME:AEST
DTSTART:20250405T160000
END:STANDARD
BEGIN:DAYLIGHT
TZOFFSETFROM:+1000
TZOFFSETTO:+1100
TZNAME:AEDT
DTSTART:20251004T160000
END:DAYLIGHT
BEGIN:STANDARD
TZOFFSETFROM:+1100
TZOFFSETTO:+1000
TZNAME:AEST
DTSTART:20260404T160000
END:STANDARD
BEGIN:DAYLIGHT
TZOFFSETFROM:+1000
TZOFFSETTO:+1100
TZNAME:AEDT
DTSTART:20261003T160000
END:DAYLIGHT
BEGIN:STANDARD
TZOFFSETFROM:+1100
TZOFFSETTO:+1000
TZNAME:AEST
DTSTART:20270403T160000
END:STANDARD
BEGIN:DAYLIGHT
TZOFFSETFROM:+1000
TZOFFSETTO:+1100
TZNAME:AEDT
DTSTART:20271002T160000
END:DAYLIGHT
END:VTIMEZONE
BEGIN:VEVENT
DTSTART;TZID=Australia/Melbourne:20260108T090000
DTEND;TZID=Australia/Melbourne:20260108T160000
DTSTAMP:20260422T024805
CREATED:20251231T075551Z
LAST-MODIFIED:20260108T013919Z
UID:11597-1767862800-1767888000@specialcareaust.com.au
SUMMARY:Swimming-MSAC
DESCRIPTION:
URL:https://specialcareaust.com.au/event/swimming-msac-3/
LOCATION:Victoria\, Victoria\, Australia
CATEGORIES:Yama Group
ATTACH;FMTTYPE=image/jpeg:https://specialcareaust.com.au/wp-content/uploads/2025/12/swimming-2-1.jpg
END:VEVENT
BEGIN:VEVENT
DTSTART;TZID=Australia/Melbourne:20260106T090000
DTEND;TZID=Australia/Melbourne:20260106T160000
DTSTAMP:20260422T024805
CREATED:20251231T074738Z
LAST-MODIFIED:20260108T013929Z
UID:11590-1767690000-1767715200@specialcareaust.com.au
SUMMARY:Hoyts/Village Cinemas
DESCRIPTION:
URL:https://specialcareaust.com.au/event/hoyts-village-cinemas/
LOCATION:Richmond VIC\, Corner Victoria &\, Burnley St\, Richmond VIC\, Victoria\, Victoria\, 3121\, Australia
CATEGORIES:Yama Group
ATTACH;FMTTYPE=image/jpeg:https://specialcareaust.com.au/wp-content/uploads/2025/12/village.jpg
END:VEVENT
BEGIN:VEVENT
DTSTART;TZID=Australia/Melbourne:20260105T090000
DTEND;TZID=Australia/Melbourne:20260105T160000
DTSTAMP:20260422T024805
CREATED:20251231T073438Z
LAST-MODIFIED:20260108T004835Z
UID:11587-1767603600-1767628800@specialcareaust.com.au
SUMMARY:Melbourne Zoo (free)
DESCRIPTION:
URL:https://specialcareaust.com.au/event/melbourne-zoo-free/
LOCATION:Victoria\, Victoria\, Australia
CATEGORIES:Yama Group
ATTACH;FMTTYPE=image/jpeg:https://specialcareaust.com.au/wp-content/uploads/2025/12/melb-zoo-1.jpg
END:VEVENT
BEGIN:VEVENT
DTSTART;TZID=Australia/Melbourne:20251031T173000
DTEND;TZID=Australia/Melbourne:20251031T193000
DTSTAMP:20260422T024805
CREATED:20251009T022801Z
LAST-MODIFIED:20251009T022801Z
UID:11016-1761931800-1761939000@specialcareaust.com.au
SUMMARY:YAMA Disco Halloween
DESCRIPTION:
URL:https://specialcareaust.com.au/event/yama-disco-halloween/
LOCATION:Clyde North\, Club Delaray 66 Deoro Parade\, Victoria\, 3978\, Australia
CATEGORIES:Yama Group
ATTACH;FMTTYPE=image/png:https://specialcareaust.com.au/wp-content/uploads/2025/10/Disco-Flyer-7-e1759976833904.png
END:VEVENT
BEGIN:VEVENT
DTSTART;VALUE=DATE:20251020
DTEND;VALUE=DATE:20251021
DTSTAMP:20260422T024805
CREATED:20251009T022219Z
LAST-MODIFIED:20251009T022219Z
UID:11013-1760918400-1761004799@specialcareaust.com.au
SUMMARY:Diwali
DESCRIPTION:
URL:https://specialcareaust.com.au/event/diwali/
LOCATION:Victoria
CATEGORIES:Yama Group
ATTACH;FMTTYPE=image/jpeg:https://specialcareaust.com.au/wp-content/uploads/2025/10/images-29.jpg
END:VEVENT
BEGIN:VEVENT
DTSTART;TZID=Australia/Melbourne:20251019T100000
DTEND;TZID=Australia/Melbourne:20251019T160000
DTSTAMP:20260422T024805
CREATED:20251009T022027Z
LAST-MODIFIED:20251009T022027Z
UID:11010-1760868000-1760889600@specialcareaust.com.au
SUMMARY:Emerald Lake
DESCRIPTION:
URL:https://specialcareaust.com.au/event/emerald-lake-2/
LOCATION:Emerald VIC\, Cardinia Reservoir Access Rd\, Victoria\, Victoria\, 3782\, Australia
CATEGORIES:Yama Group
ATTACH;FMTTYPE=image/jpeg:https://specialcareaust.com.au/wp-content/uploads/2025/10/local-lake.jpg
END:VEVENT
BEGIN:VEVENT
DTSTART;TZID=Australia/Melbourne:20251018T100000
DTEND;TZID=Australia/Melbourne:20251018T160000
DTSTAMP:20260422T024805
CREATED:20251009T021752Z
LAST-MODIFIED:20251009T021752Z
UID:11006-1760781600-1760803200@specialcareaust.com.au
SUMMARY:Melbourne Zoo
DESCRIPTION:
URL:https://specialcareaust.com.au/event/melbourne-zoo-2/
LOCATION:Parkville VIC\, Elliott Ave\, Victoria\, 3052\, Australia
CATEGORIES:Yama Group
ATTACH;FMTTYPE=image/jpeg:https://specialcareaust.com.au/wp-content/uploads/2025/10/melb-zoo.jpg
END:VEVENT
BEGIN:VEVENT
DTSTART;TZID=Australia/Melbourne:20251017T170000
DTEND;TZID=Australia/Melbourne:20251017T220000
DTSTAMP:20260422T024805
CREATED:20251009T021253Z
LAST-MODIFIED:20251009T063334Z
UID:11003-1760720400-1760738400@specialcareaust.com.au
SUMMARY:Bounce Trampoline
DESCRIPTION:
URL:https://specialcareaust.com.au/event/bounce-trampoline/
LOCATION:Keysborough VIC\, 1 Fiveways Boulevarde. Keysborough\, Victoria\, Victoria\, 3173\, Australia
CATEGORIES:Yama Group
ATTACH;FMTTYPE=image/jpeg:https://specialcareaust.com.au/wp-content/uploads/2025/10/bounce-jump.jpg
END:VEVENT
BEGIN:VEVENT
DTSTART;TZID=Australia/Melbourne:20251003T100000
DTEND;TZID=Australia/Melbourne:20251003T160000
DTSTAMP:20260422T024805
CREATED:20251009T020915Z
LAST-MODIFIED:20251009T020915Z
UID:11000-1759485600-1759507200@specialcareaust.com.au
SUMMARY:Cranbourne Botanical Gardens + AMF Bowling
DESCRIPTION:
URL:https://specialcareaust.com.au/event/cranbourne-botanical-gardens-amf-bowling/
LOCATION:Frankston VIC\, 228 Cranbourne Rd\, Victoria\, Victoria\, 3199\, Australia
CATEGORIES:Yama Group
ATTACH;FMTTYPE=image/jpeg:https://specialcareaust.com.au/wp-content/uploads/2025/10/bowling1-2.jpg
END:VEVENT
BEGIN:VEVENT
DTSTART;TZID=Australia/Melbourne:20251002T100000
DTEND;TZID=Australia/Melbourne:20251002T160000
DTSTAMP:20260422T024805
CREATED:20251009T015535Z
LAST-MODIFIED:20251009T015535Z
UID:10997-1759399200-1759420800@specialcareaust.com.au
SUMMARY:Swimming @PARC Frankston
DESCRIPTION:
URL:https://specialcareaust.com.au/event/swimming-parc-frankston/
LOCATION:Frankston VIC\, 228 Cranbourne Rd\, Victoria\, Victoria\, 3199\, Australia
CATEGORIES:Yama Group
ATTACH;FMTTYPE=image/jpeg:https://specialcareaust.com.au/wp-content/uploads/2025/10/swimming-2.jpg
END:VEVENT
BEGIN:VEVENT
DTSTART;TZID=Australia/Melbourne:20251001T100000
DTEND;TZID=Australia/Melbourne:20251001T160000
DTSTAMP:20260422T024805
CREATED:20251009T013951Z
LAST-MODIFIED:20251009T013951Z
UID:10983-1759312800-1759334400@specialcareaust.com.au
SUMMARY:Shrine of Remembrance
DESCRIPTION:
URL:https://specialcareaust.com.au/event/shrine-of-remembrance/
LOCATION:Melbourne VIC\, 180 St Kilda Rd\, Victoria\, Victoria\, 3006\, Australia
CATEGORIES:Yama Group
ATTACH;FMTTYPE=image/jpeg:https://specialcareaust.com.au/wp-content/uploads/2025/10/images-28.jpg
END:VEVENT
BEGIN:VEVENT
DTSTART;TZID=Australia/Melbourne:20250120T090000
DTEND;TZID=Australia/Melbourne:20250120T160000
DTSTAMP:20260422T024805
CREATED:20241218T173331Z
LAST-MODIFIED:20241218T173331Z
UID:8137-1737363600-1737388800@specialcareaust.com.au
SUMMARY:Ice Skating
DESCRIPTION:The Icehouse is an Australian ice sports and entertainment centre\, located in the Docklands precinct of Melbourne\, in Victoria\, Australia
URL:https://specialcareaust.com.au/event/ice-skating/
LOCATION:Docklands VIC\, 429-437 Docklands Dr\, Docklands VIC\, Victoria\, Victoria\, 3008\, Australia
CATEGORIES:Yama Group
ATTACH;FMTTYPE=image/jpeg:https://specialcareaust.com.au/wp-content/uploads/2024/12/ObrienArenaMammaKnowsMelbourne-5.jpg
END:VEVENT
BEGIN:VEVENT
DTSTART;TZID=Australia/Melbourne:20250113T090000
DTEND;TZID=Australia/Melbourne:20250113T160000
DTSTAMP:20260422T024805
CREATED:20241126T213618Z
LAST-MODIFIED:20241218T172704Z
UID:7740-1736758800-1736784000@specialcareaust.com.au
SUMMARY:National Gallery of Victoria
DESCRIPTION:The National Gallery of Victoria\, popularly known as the NGV\, is an art museum in Melbourne. Founded in 1861\, it is Australia’s oldest and most visited art museum. 
URL:https://specialcareaust.com.au/event/national-gallery-of-victoria/
LOCATION:Melbourne\, 180 St Kilda Rd\, Melbourne VIC\, Melbourne\, 3006\, Australia
CATEGORIES:Yama Group
ATTACH;FMTTYPE=image/jpeg:https://specialcareaust.com.au/wp-content/uploads/2024/11/Melb_NGV.jpg
END:VEVENT
END:VCALENDAR